Workbook

Sheet Kwestionariusz
D1: Kwestionariusz rejestracyjny Dostawcy
A2: Lp. | B2: Kategoria | C2: Etykieta | D2: Pytania | E2: Odpowiedzi | F2: 1 - obowiązkowe 2 - nieobowiązkowe
A3: Informacje o firmie
A4: 1 | B4: Firma i kontakt | C4: Informacje o Firmie | D4: Firma | F4: 1
A5: 2 | C5: Informacje o Firmie | D5: Adres | F5: 1
A6: 3 | C6: Informacje o Firmie | D6: Miasto | F6: 1
A7: 4 | C7: Informacje o Firmie | D7: Kod pocztowy | F7: 1
A8: 5 | C8: Informacje o Firmie | D8: Państwo | F8: 1
A9: 6 | C9: Informacje o Firmie | D9: NIP | F9: 1
A10: 7 | C10: Informacje o Firmie | D10: Strona internetowa | F10: 2
A11: 8 | C11: Informacje o Firmie | D11: Numer KRS | F11: 2
A12: Kontakt
A13: 9 | B13: Firma i kontakt | C13: Kontakt | D13: Imię | F13: 1
A14: 10 | C14: Kontakt | D14: Nazwisko | F14: 1
A15: 11 | C15: Kontakt | D15: E-mail | F15: 1
A16: 12 | C16: Kontakt | D16: Telefon | F16: 1
A17: 13 | C17: Kontakt | D17: Stanowisko | F17: 1
A18: Kontakt 2 - alternatywny
A19: 14 | B19: Firma i kontakt | C19: Kontakt | D19: Imię | F19: 1
A20: 15 | C20: Kontakt | D20: Nazwisko | F20: 1
A21: 16 | C21: Kontakt | D21: E-mail | F21: 1
A22: 17 | C22: Kontakt | D22: Telefon | F22: 1
A23: 18 | C23: Kontakt | D23: Stanowisko | F23: 1
A24: Informacje szczegółowe
A25: 19 | B25: Szczegółowe Informacje | C25: Informacje szczegółowe | D25: Rok założenia | F25: 2
A26: 20 | C26: Informacje szczegółowe | D26: Liczba pracowników ogółem | F26: 2
A27: 21 | C27: Informacje szczegółowe | D27: Czy firma współpracuje lub współpracowała z Grupą PZU ? | F27: 1
A28: 22 | C28: Informacje szczegółowe | D28: Przychód - ostatni rok (2022) | F28: 1
A29: 23 | C29: Informacje szczegółowe | D29: Przychód - przedostatni rok (2021) | F29: 1
A30: Oświadczenie
A31: 24 | B31: Informacje dodatkowe | D31: Czy podmiot akceptuje wprowadzenie do potencjalnych umów pomiędzy stronami klauzul antykorupcyjnych? | F31: 2
A32: 25 | D32: Czy podmiot zalega z płatnością podatków, opłat i składek na ubezpieczenie społeczne? | F32: 1
A33: 26 | D33: Czy podmiot jest w trakcie likwidacji lub postępowania upadłościowego, czy ogłoszono upadłość, czy złożono oświadczenia o wszczęciu postepowania naprawczego? Czy w chwili obecnej zachodzą przesłanki do wszczęcia wymienionych postepowań? | F33: 1
A34: 27 | D34: Czy osoby reprezentujące podmiot skazano prawomocnie za przestępstwo popełnione w związku z postepowaniem o udzielenie zamówienia publicznego, przestępstwo przekupstwa, przestępstwo przeciwko obrotowi gospodarczemu, przestępstwo przeciwko wiarygodności dokumentów lub inne przestępstwo popełnione w celu osiągnięcia korzyści majątkowych oraz nie wszczęto postępowania sądowego o popełnienie ww. przestępstw? | F34: 1
A35: 28 | D35: Czy wobec podmiotu orzeczono, na podstawie przepisów o odpowiedzialności podmiotów zbiorowych za czyny zabronione pod groźbą kary, zakaz ubiegania się o zamówienia publiczne? | F35: 1
A36: 29 | D36: Czy osoby reprezentujące podmiot lub beneficjent rzeczywisty pełni lub pełnił funkcję publiczną lub posiada powiązania organizacyjne lub kapitałowe z osobami pełniącymi funkcje publiczne? | F36: 1
A37: 30 | D37: Czy podmiot jest objęty sankcjami oraz osoby reprezentujące lub mające pełnomocnictwo do reprezentowania spółki/przedsiębiorstwa również są objęte sankcjami*? (*)Sankcje - znane spółce, i obowiązujące ją ograniczenia nakładane przez upoważnione organy, w szczególności z inicjatywy Unii Europejskiej, Organizacji Narodów Zjednoczonych lub innych organów społeczności międzynarodowej, Stanów Zjednoczonych Ameryki Północnej lub Wielkiej Brytanii, w tym: a) finansowe lub ekonomiczne restrykcje w stosunku do określonych państw lub obywateli tych państw (embargo); b) środki ograniczające wobec osób, podmiotów, grup zorganizowanych, reżimów, rządów, państw (sankcje sensu stricto); | F37: 1
A38: Kategorie zakupowe - proszę o wskazanie kategorii zakupowych, w których świadczycie Państwo usługi
B45: Inne | D45: Proszę podać inne obszary działalności
A46: RODO
B47: Administratorem podanych danych osobowych jest PZU Zdrowie SA z siedzibą w Warszawie przy Rondzie Daszyńskiego 4. Dane będą przetwarzane w związku ze zgłoszeniem udziału w postępowaniu przetargowym. Przysługuje Pani/Panu prawo dostępu do swoich danych osobowych, ich sprostowania, ograniczenia przetwarzania, usunięcia, przenoszenia, a także prawo wniesienia sprzeciwu na zasadach określonych w RODO. Przysługuje Pani/Panu również prawo wniesienia skargi do organu nadzorczego zajmującego się ochroną danych osobowych w Polsce. Więcej informacji o przetwarzaniu danych znajduje się na stronie www.zdrowie.pzu.pl/informacje-o-przetwarzaniu-danych. [Administrator i dane kontaktowe administratora i Inspektora Ochrony Danych] PZU Zdrowie SA administrator: PZU Zdrowie SA, Rondo Ignacego Daszyńskiego 4, 00-843 Warszawa IOD: PZU Zdrowie SA, IOD, Rondo Ignacego Daszyńskiego 4, 00-843 Warszawa; e-mail: IODzdrowie@pzu.pl

Sheet dane
A1: Firma | B1: Adres | C1: Miasto | D1: Kod pocztowy | E1: Państwo | F1: NIP | G1: Strona internetowa | H1: Numer KRS | I1: Imię1 | J1: Nazwisko1 | K1: E-mail1 | L1: Telefon1 | M1: Stanowisko1 | N1: Imię2 | O1: Nazwisko2 | P1: E-mail2 | Q1: Telefon2 | R1: Stanowisko2 | S1: Rok założenia | T1: pracownicy ogółem | U1: Współpraca z Grupą PZU ? | V1: Przychód (2021) | W1: Przychód (2020) | X1: klauzule antykorupcyjne | Y1: Zaleganie z przymusowymi opłatami | Z1: Likwidacja/upadłość | AA1: Prawomocne skazanie za przestępstwo | AB1: Zakaz ubiegania się o zamówienia publiczne | AC1: PEP | AD1: Broker | AE1: Sankcje | AF1: CSR
A2: =Kwestionariusz!$E4 -> 0 | B2: =Kwestionariusz!$E5 -> 0 | C2: =Kwestionariusz!$E6 -> 0 | D2: =Kwestionariusz!$E7 -> 0 | E2: =Kwestionariusz!$E8 -> 0 | F2: =Kwestionariusz!$E9 -> 0 | G2: =Kwestionariusz!$E10 -> 0 | H2: =Kwestionariusz!$E11 -> 0 | I2: =Kwestionariusz!$E13 -> 0 | J2: =Kwestionariusz!$E14 -> 0 | K2: =Kwestionariusz!$E15 -> 0 | L2: =Kwestionariusz!$E16 -> 0 | M2: =Kwestionariusz!$E17 -> 0 | N2: =Kwestionariusz!$E19 -> 0 | O2: =Kwestionariusz!$E20 -> 0 | P2: =Kwestionariusz!$E21 -> 0 | Q2: =Kwestionariusz!$E22 -> 0 | R2: =Kwestionariusz!$E23 -> 0 | S2: =Kwestionariusz!$E25 -> 0 | T2: =Kwestionariusz!$E26 -> 0 | U2: =Kwestionariusz!$E27 -> 0 | V2: =Kwestionariusz!$E28 -> 0 | W2: =Kwestionariusz!$E29 -> 0 | X2: =Kwestionariusz!$E31 -> 0 | Y2: =Kwestionariusz!$E32 -> 0 | Z2: =Kwestionariusz!$E33 -> 0 | AA2: =Kwestionariusz!$E34 -> 0 | AB2: =Kwestionariusz!$E35 -> 0 | AC2: =Kwestionariusz!$E36 -> 0 | AD2: =Kwestionariusz!#REF! -> #REF! | AE2: =Kwestionariusz!$E37 -> 0 | AF2: =Kwestionariusz!#REF! -> #REF!

Sheet Słownik
A1: Tak
A2: Nie
A3: Nie dotyczy
A5: Globalny
A6: Krajowy
A7: Regionalny
